{"text_format":"1","workbook":"xlsx","n_sheets":4,"sheets":["Immersione","Tab 1","Tab 2","Tab 3"],"not_rendered":{"charts":0,"images":5,"macros":1,"external_links":0,"defined_names":1,"comments":1,"pivot_tables":0},"unopened":[],"bounds":{"document_bytes":16777216,"sheet_cells":100000,"rows_first":2000,"rows_last":500,"rows_between":2000,"halvings":0,"cell_chars":16384,"cell_head_chars":4096},"cells_cut":0,"cells_raw":0,"read":"whole","date_system":"1900"}

{"sheet":"Immersione","index":0,"n_rows":42,"n_cols":39,"rows_kept":42,"cut":false,"hidden":false,"merged":[[0,38,0,40],[2,20,2,27],[9,3,9,7],[5,22,5,23],[5,2,5,3],[2,0,2,7],[4,22,4,23],[4,2,4,3],[0,0,1,27],[8,29,8,30],[24,38,30,40],[10,38,11,40],[21,20,21,27],[19,23,19,27],[26,33,26,35],[10,23,13,27],[10,3,13,7],[9,23,9,27],[31,38,34,40],[21,38,21,40],[22,38,22,40],[23,38,23,40],[12,38,12,40],[33,0,33,7],[21,0,21,7],[14,38,14,40],[17,38,20,40],[16,38,16,40],[33,20,33,27],[19,3,19,7],[13,38,13,40]]}
["Calcolo Immersione secondo lo standard FIPSAS/DAN 2017",null,null,null,null,null,null,null,null,null,null,null,null,null,null,null,null,null,null,null,null,null,null,null,null,null,null,null,null,null,null,null,null,null,null,null,null,null,"Rev 2.4"]
[]
["1^ Immersione",null,null,null,null,null,null,null,null,null,null,null,null,null,null,null,"18",6,5,null,"2^ Immersione"]
[null,null,null,null,null,null,null,null,null,null,null,null,null,null,null,null,"15",{"$f":"R3+1","v":7}]
["Bombola",10,"l.",null,null,null,null,null,null,null,null,null,null,null,null,null,null,{"$f":"R4+1","v":8},null,null,"Bombola",15,"l."]
["Pressione",200,"atm",null,null,null,null,null,null,null,null,null,null,null,null,null,null,9,null,null,"Pressione",200,"atm"]
[null,null,null,null,null,null,null,null,null,null,null,null,null,null,null,null,null,10]
["Ora Inizio",10,null,null,null,null,null,null,null,null,null,null,null,null,null,null,null,11,null,null,"Ora Inizio",15,null,null,null,null,null,null,null,null,null,null,null,null,{"$f":"INT(V8)*60","v":900},{"$f":"V8-INT(V8)","v":0},{"$f":"AJ8*100","v":0},{"$f":"AI8+AK8","v":900}]
[null,null,null,null,null,null,null,null,null,null,null,null,null,null,null,null,null,12,null,null,null,null,null,null,null,null,null,null,null,{"$f":"IF(AE9<=0.1,\"Prosegue dalla precedente\",\"\")","v":"Prosegue dalla precedente"},null,null,null,null,{"$f":"INT(B8)*60","v":600},{"$f":"B8-INT(B8)","v":0},{"$f":"AJ9*100","v":0},{"$f":"AI9+AK9","v":600}]
["Profondità",{"$f":"VALUE(Q3)","v":18},null,null,null,null,null,null,null,null,null,null,null,null,null,null,null,13,null,null,"Profondità",{"$f":"VALUE(Q4)","v":15},null,{"$f":"IF(V10>B10,\"Profondità sup alla prec.\",\"\")","v":""},null,null,null,null,null,"Profondità",{"$f":"IF(V13<=0.1,IF(V10>B10,V10,B10))","v":false},null,null,null,null,null,null,{"$f":"AL8-AL9","v":300}]
["Tempo di fondo",15,null,null,null,null,null,null,null,null,null,null,null,null,null,null,null,14,null,null,"Tempo di fondo",23,null,{"$f":"IF(V13<0,\"Come fai a rientrare in acqua prima di esserci uscito????\",IF(V13<0.1,CONCATENATE(\"Prosegue dalla precedente è come se fosse una immersione a \",AE10,\" m. per \",AE11,\" min\"),\"\"))","v":""},null,null,null,null,null,"Tempo di fondo",{"$f":"IF(V13<=0.1,V11+B11,)","v":0},null,null,null,null,null,null,null,"A.S.D. Circolo Attività Subacquee Chieri"]
[null,null,null,null,null,null,null,null,null,null,null,null,null,null,null,null,null,15]
[null,null,null,null,null,null,null,null,null,null,null,null,null,null,null,null,null,16,null,null,"Intervallo di superficie",{"$f":"INT(AI13)+AL13","v":4.38},null,null,null,null,null,null,null,null,{"$f":"INT(AI13)+AL13","v":4.38},null,null,{"$f":"AL10-D31","v":278},{"$f":"AH13/60","v":4.6333333333333337},{"$f":"INT(AI13)*60","v":240},{"$f":"AH13-AJ13","v":38},{"$f":"AK13/100","v":0.38},"Via San Filippo,2 - 10023 Chieri (To)"]
["FAR in entrata",null,null,null,null,null,null,null,null,null,null,null,null,null,null,null,null,17,null,null,"FAR in entrata",{"$f":"IF(V13<0.1,\"\",IF(ISNA(AE14),\"\",AE14))","v":""},null,null,null,null,null,null,null,null,{"$f":"INDIRECT(AF14)","v":{"$error":"#N/A"}},{"$f":"(ADDRESS(AH14+1,1,1,\"vero\",\"Tab 2\"))","v":{"$error":"#N/A"}},{"$f":"MATCH(B33,'Tab 2'!$A$1:$Q$1,-1)","v":15},{"$f":"MATCH(V13,INDIRECT(AL14),-1)","v":{"$error":"#N/A"}},null,{"$f":"ADDRESS(2,AG14,1,\"vero\",\"Tab 2\")","v":"'Tab 2'!$O$2"},{"$f":"ADDRESS(17,AG14,1,\"vero\")","v":"$O$17"},{"$f":"CONCATENATE(AJ14,\":\",AK14)","v":"'Tab 2'!$O$2:$O$17"},"http://www.casc.it"]
["Minuti da Aggiungere",{"$f":"IF(ISNA(J15),0,J15)","v":0},null,null,null,null,null,null,null,{"$f":"INDIRECT(K15)","v":{"$error":"#N/A"}},{"$f":"ADDRESS(L15,M15,1,\"vero\",\"tab 3\")","v":{"$error":"#N/A"}},{"$f":"MATCH(B10,'Tab 3'!$A$1:$A$15,-1)","v":11},{"$f":"MATCH(B14,'Tab 3'!$A$1:$Q$1,1)","v":{"$error":"#N/A"}},null,null,null,null,18,null,null,"Minuti da Aggiungere",{"$f":"IF(ISNA(AE15),0,AE15)","v":0},null,null,null,null,null,null,null,null,{"$f":"INDIRECT(AF15)","v":{"$error":"#N/A"}},{"$f":"ADDRESS(AG15,AH15,1,\"vero\",\"tab 3\")","v":{"$error":"#N/A"}},{"$f":"MATCH(V10,'Tab 3'!$A$1:$A$15,-1)","v":12},{"$f":"MATCH(V14,'Tab 3'!$A$1:$Q$1,1)","v":{"$error":"#N/A"}},null,null,null,null,"info@casc.it"]
[null,null,null,null,null,null,null,null,null,null,null,null,null,null,null,null,null,19]
["Aria Bombole",{"$f":"B6*B5","v":2000},"l.",null,null,null,null,null,null,null,null,null,null,null,null,null,null,20,null,null,"Aria Bombole",{"$f":"V6*V5","v":3000},"l.",null,null,null,null,null,null,null,null,null,null,null,null,null,null,null,"Tutti i diritti riservati"]
["Riserva",{"$f":"B5*50","v":500},"l.",null,null,null,null,null,null,null,null,null,null,null,null,null,null,21,null,null,"Riserva",{"$f":"V5*50","v":750},"l.",null,null,null,null,null,null,null,null,null,null,null,null,null,null,null,"E' vietata la riproduzione senza consenso e/o la rimozione del logo e di questo disclaimer"]
["Aria Disponibile",{"$f":"B17-B18","v":1500},"l.",null,null,null,null,null,null,null,null,null,null,null,null,null,null,22,null,null,"Aria Disponibile",{"$f":"V17-V18","v":2250},"l."]
[null,null,null,{"$f":"IF(H28<>0,\"Fuori Curva\",\"\")","v":""},null,null,null,null,null,null,null,null,null,0,null,null,null,23,null,null,null,null,null,{"$f":"IF(AB28<>0,\"Fuori Curva\",\"\")","v":""}]
[null,null,null,null,null,null,null,null,null,null,null,null,null,2.5,0,null,null,24,null,null,null,null,null,null,null,null,null,null,null,null,null,0]
["Consumi",null,null,null,null,null,null,null,null,null,null,null,null,null,null,null,null,25,null,null,"Consumi",null,null,null,null,null,null,null,null,null,null,null,null,null,null,null,null,null,"Realizzato da "]
[null,"Atm",null,"minuti",null,"litri/min",null,"litri",null,null,null,null,null,null,null,null,null,26,null,null,null,"Atm",null,"minuti",null,"litri/min",null,"litri",null,null,null,null,null,null,null,null,null,null,"Guido Gilli - Consulenze Informatiche"]
["max profondita",{"$f":"(B10/10)+1","v":2.8},"*",{"$f":"B11-D26","v":15},"*",20,"=",{"$f":"CEILING(F24*D24*B24,1)","v":840},null,null,null,null,null,null,null,null,null,27,null,null,"max profondita",{"$f":"(V10/10)+1","v":2.5},"*",{"$f":"V11-X26","v":23},"*",20,"=",{"$f":"CEILING(Z24*X24*V24,1)","v":1150},null,null,null,null,null,null,null,null,null,null,"http://www.gilliguido.it"]
["Risalita alla tappa o sosta di sicurezza",{"$f":"(((B10+6)/2)/10)+1","v":2.2000000000000002},"*",{"$f":"ROUNDUP((B10-6)/9,2)","v":1.34},"*",20,"=",{"$f":"CEILING(F25*D25*B25,1)","v":59},null,null,null,null,null,null,null,null,null,28,null,null,"Risalita alla tappa o sosta di sicurezza",{"$f":"(((V10+6)/2)/10)+1","v":2.0499999999999998},"*",{"$f":"ROUNDUP((V10-6)/9,2)","v":1},"*",20,"=",{"$f":"CEILING(Z25*X25*V25,1)","v":41},null,null,null,null,null,null,null,null,null,null,"Questo è semplicemente uno strumento di verifica del calcolo delle immersioni secondo lo standard FIPSAS 2017; non sostituisce la partecipazione ad un corso ove vengono insegnate le corrette metodologie di calcolo e di immersione."]
["Deep stop",{"$f":"((B10/2)/10)+1","v":1.9},"*",{"$f":"VALUE(O21)","v":0},"*",20,"=",{"$f":"CEILING(F26*D26*B26,1)","v":0},null,null,null,null,null,null,null,null,null,29,null,null,"Deep stop",{"$f":"((V10/2)/10)+1","v":1.75},"*",{"$f":"VALUE(AF21)","v":0},"*",20,"=",{"$f":"CEILING(Z26*X26*V26,1)","v":0}]
["Tappa di sicurezza + risalita",1.6,"*",{"$f":"ROUNDUP(((B27-1)*10)/3,2)+3","v":5},"*",20,"=",{"$f":"CEILING(F27*D27*B27,1)","v":160},null,null,null,null,null,null,null,null,null,30,null,null,"Tappa di sicurezza + risalita",1.6,"*",{"$f":"ROUNDUP(((V27-1)*10)/3,2)+3","v":5},"*",20,"=",{"$f":"CEILING(Z27*X27*V27,1)","v":160},null,null,null,null,null,{"$f":"IF(AI27<=0.1,\"Prosegue dalla precedente\",\"\")","v":"Prosegue dalla precedente"}]
["decompressione -6",1.6,"*",{"$f":"INDIRECT(K28)","v":0},"*",20,"=",{"$f":"CEILING(F28*D28*B28,1)","v":0},null,{"$f":"INDIRECT(K28)","v":0},{"$f":"ADDRESS(N33+2,L33+1,1,\"vero\",\"Tab 1\")","v":"'Tab 1'!$AL$13"},null,null,null,null,null,null,31,null,null,"decompressione -6",1.6,"*",{"$f":"IF(V13<0.1,INDIRECT(AI30),INDIRECT(AF30))","v":0},"*",20,"=",{"$f":"CEILING(Z28*X28*V28,1)","v":0},null,null,{"$f":"INDIRECT(AF28)","v":0},{"$f":"ADDRESS(AI34+2,AG34+2,1,\"vero\",\"Tab 1\")","v":"'Tab 1'!$AQ$14"},null,{"$f":"INDIRECT(AI28)","v":{"$error":"#N/A"}},{"$f":"ADDRESS(AI35+2,AG35+2,1,\"vero\",\"Tab 1\")","v":{"$error":"#N/A"}}]
["Incremento del",0.1,null,null,null,null,"=",{"$f":"SUM(H24:H28)*B29","v":105.9},null,null,null,null,null,null,null,null,null,32,null,null,"Incremento del",0.1,null,null,null,null,"=",{"$f":"SUM(AB24:AB28)*V29","v":135.1}]
[null,null,null,null,null,null,null,null,null,null,null,null,null,null,null,null,null,33,null,null,null,null,null,null,null,null,null,null,null,null,{"$f":"INDIRECT(AF30)","v":0},{"$f":"ADDRESS(AI34+2,AG34+1,1,\"vero\",\"Tab 1\")","v":"'Tab 1'!$AP$14"},null,{"$f":"INDIRECT(AI30)","v":{"$error":"#N/A"}},{"$f":"ADDRESS(AI35+2,AG35+1,1,\"vero\",\"Tab 1\")","v":{"$error":"#N/A"}}]
[null,null,null,{"$f":"CEILING(SUM(D24:D28),1)","v":22},null,null,null,{"$f":"CEILING(SUM(H24:H29),1)","v":1165},null,null,null,null,null,null,null,null,null,34,null,null,null,null,null,{"$f":"CEILING(SUM(X24:X28),1)","v":29},null,null,null,{"$f":"CEILING(SUM(AB24:AB29),1)","v":1487}]
[null,null,null,{"$f":"IF(H31>B19,\"aria non sufficiente\",\"\")","v":""},null,null,null,null,null,null,null,null,null,null,null,null,null,35,null,null,null,null,null,{"$f":"IF(AB31>V19,\"aria non sufficiente\",\"\")","v":""},null,null,null,null,null,null,null,null,null,null,null,null,null,null,"Non si risponde di danni a cose e/o persone derivanti dall'uso di questo foglio di calcolo"]
["FAR in uscita",{"$f":"INDIRECT(K33)","v":"C"},null,null,null,null,null,null,null,{"$f":"INDIRECT(K33)","v":"C"},{"$f":"ADDRESS(N33+2,L33+3,1,\"vero\",\"Tab 1\")","v":"'Tab 1'!$AN$13"},{"$f":"MATCH(B10,'Tab 1'!$A$1:$BD$1,-1)","v":37},{"$f":"B11+B15","v":15},{"$f":"MATCH(B11+B15,INDIRECT(Q33),-1)","v":11},{"$f":"ADDRESS(3,L33,1,\"vero\",\"Tab 1\")","v":"'Tab 1'!$AK$3"},{"$f":"ADDRESS(16,L33,1,\"vero\")","v":"$AK$16"},{"$f":"CONCATENATE(O33,\":\",P33)","v":"'Tab 1'!$AK$3:$AK$16"},36,null,null,"FAR in uscita",{"$f":"IF(V13<0.1,INDIRECT(AF35),INDIRECT(AF34))","v":"D"}]
[{"$f":"IF(ISNA(B33),\"IMPOSSIBILE CALCOLARE: VALORI FUORI TABELLA\",\"\")","v":""},null,null,null,null,null,null,null,null,null,null,null,null,null,null,null,null,37,null,null,{"$f":"IF(ISNA(V33),\"IMPOSSIBILE CALCOLARE: VALORI FUORI TABELLA\",\"\")","v":""},null,null,null,null,null,null,null,null,null,{"$f":"INDIRECT(AF34)","v":"D"},{"$f":"ADDRESS(AI34+2,AG34+3,1,\"vero\",\"Tab 1\")","v":"'Tab 1'!$AR$14"},{"$f":"MATCH(V10,'Tab 1'!$A$1:$BD$1,-1)","v":41},{"$f":"V11+V15","v":23},{"$f":"MATCH(AH34,INDIRECT(AL34),-1)","v":12},{"$f":"ADDRESS(3,AG34,1,\"vero\",\"Tab 1\")","v":"'Tab 1'!$AO$3"},{"$f":"ADDRESS(16,AG34,1,\"vero\")","v":"$AO$16"},{"$f":"CONCATENATE(AJ34,\":\",AK34)","v":"'Tab 1'!$AO$3:$AO$16"}]
[null,null,null,null,null,null,null,null,null,null,null,null,null,null,null,null,null,38,null,null,null,null,null,null,null,null,null,null,null,"Prosegue dalla precedente",{"$f":"INDIRECT(AF35)","v":{"$error":"#N/A"}},{"$f":"ADDRESS(AI35+2,AG35+3,1,\"vero\",\"Tab 1\")","v":{"$error":"#N/A"}},{"$f":"MATCH(AE10,'Tab 1'!$A$1:$BD$1,-1)","v":{"$error":"#N/A"}},{"$f":"AE11+V15","v":0},{"$f":"MATCH(AH35,INDIRECT(AL35),-1)","v":{"$error":"#N/A"}},{"$f":"ADDRESS(3,AG35,1,\"vero\",\"Tab 1\")","v":{"$error":"#N/A"}},{"$f":"ADDRESS(16,AG35,1,\"vero\")","v":{"$error":"#N/A"}},{"$f":"CONCATENATE(AJ35,\":\",AK35)","v":{"$error":"#N/A"}}]
[null,null,null,null,null,null,null,null,null,null,null,null,null,null,null,null,null,39]
[null,null,null,null,null,null,null,null,null,null,null,null,null,null,null,null,null,40]
[null,null,null,null,null,null,null,null,null,null,null,null,null,null,null,null,null,41]
[null,null,null,null,null,null,null,null,null,null,null,null,null,null,null,null,null,42]
[null,null,null,null,null,null,null,null,null,null,null,null,null,null,null,null,null,43]
[null,null,null,null,null,null,null,null,null,null,null,null,null,null,null,null,null,44]
[null,null,null,null,null,null,null,null,null,null,null,null,null,null,null,null,null,45]

{"sheet":"Tab 1","index":1,"n_rows":18,"n_cols":56,"rows_kept":18,"cut":false,"hidden":true,"merged":[[0,52,0,54],[0,48,0,50],[0,44,0,46],[0,40,0,42],[0,36,0,38],[0,32,0,34],[0,28,0,30],[0,24,0,26],[0,4,0,6],[0,0,0,2],[0,20,0,22],[0,16,0,18],[0,12,0,14],[0,8,0,10]]}
[45,null,null,null,42,null,null,null,39,null,null,null,36,null,null,null,33,null,null,null,30,null,null,null,27,null,null,null,24,null,null,null,21,null,null,null,18,null,null,null,15,null,null,null,12,null,null,null,9,null,null,null,6]
[null,-6,-3,null,null,-6,-3,null,null,-6,-3,null,null,-6,-3,null,null,-6,-3,null,null,-6,-3,null,null,-6,-3,null,45,10,null,"L",null,-6,-3,null,null,-6,-3,null,null,-6,-3,null,null,-6,-3,null,null,-6,-3,null,null,-6,-3]
[15,3,null,"H",20,7,null,"J",20,4,null,"I",25,8,null,"J",30,14,null,"K",35,15,null,"L",40,14,null,"L",39,null,null,"K",60,14,null,"M",80,14,null,"N",110,8,null,"O",180,14,null,"Z",371,null,null,"Z",99999,null,null,"L"]
[10,1,null,"F",15,2,null,"H",15,1,null,"G",20,2,null,"H",25,3,null,"I",30,3,null,"J",35,4,null,"J",36,null,null,"I",55,9,null,"L",70,7,null,"L",100,4,null,"N",163,null,null,"O",307,null,null,"O",461,null,null,"K"]
[5,null,null,"C",10,null,null,"E",10,null,null,"E",15,null,null,"F",20,null,null,"H",25,null,null,"H",30,null,null,"I",32,null,null,"H",48,null,null,"K",60,null,null,"K",92,null,null,"M",151,null,null,"N",260,null,null,"N",330,null,null,"J"]
[3,null,null,"B",8,null,null,"D",9,null,null,"D",12,null,null,"E",19,null,null,"G",21,null,null,"G",28,null,null,"H",28,null,null,"G",47,null,null,"J",57,null,null,"J",89,null,null,"L",135,null,null,"M",223,null,null,"M",256,null,null,"I"]
[2,null,null,"A",6,null,null,"C",6,null,null,"C",10,null,null,"D",16,null,null,"F",18,null,null,"F",24,null,null,"G",24,null,null,"F",42,null,null,"I",51,null,null,"I",80,null,null,"K",121,null,null,"L",193,null,null,"L",205,null,null,"H"]
[null,null,null,null,4,null,null,"B",4,null,null,"B",7,null,null,"C",14,null,null,"E",15,null,null,"E",21,null,null,"F",20,null,null,"E",37,null,null,"H",45,null,null,"H",71,null,null,"J",108,null,null,"K",167,null,null,"K",165,null,null,"G"]
[null,null,null,null,2,null,null,"A",2,null,null,"A",5,null,null,"B",11,null,null,"D",12,null,null,"D",17,null,null,"E",16,null,null,"D",32,null,null,"G",39,null,null,"G",63,null,null,"I",95,null,null,"J",145,null,null,"J",133,null,null,"F"]
[null,null,null,null,null,null,null,null,null,null,null,null,3,null,null,"A",8,null,null,"C",9,null,null,"C",14,null,null,"D",12,null,null,"C",28,null,null,"F",33,null,null,"F",56,null,null,"H",84,null,null,"I",125,null,null,"I",106,null,null,"E"]
[null,null,null,null,null,null,null,null,null,null,null,null,null,null,null,null,6,null,null,"B",6,null,null,"B",11,null,null,"C",9,null,null,"B",23,null,null,"E",28,null,null,"E",48,null,null,"G",73,null,null,"H",107,null,null,"H",82,null,null,"D"]
[null,null,null,null,null,null,null,null,null,null,null,null,null,null,null,null,3,null,null,"A",4,null,null,"A",7,null,null,"B",5,null,null,"A",19,null,null,"D",22,null,null,"D",41,null,null,"F",63,null,null,"G",91,null,null,"G",61,null,null,"C"]
[null,null,null,null,null,null,null,null,null,null,null,null,null,null,null,null,null,null,null,null,null,null,null,null,4,null,null,"A",null,null,null,null,14,null,null,"C",17,null,null,"C",34,null,null,"E",53,null,null,"F",76,null,null,"F",43,null,null,"B"]
[null,null,null,null,null,null,null,null,null,null,null,null,null,null,null,null,null,null,null,null,null,null,null,null,null,null,null,null,null,null,null,null,10,null,null,"B",12,null,null,"B",28,null,null,"D",44,null,null,"E",62,null,null,"E",26,null,null,"A"]
[null,null,null,null,null,null,null,null,null,null,null,null,null,null,null,null,null,null,null,null,null,null,null,null,null,null,null,null,null,null,null,null,6,null,null,"A",7,null,null,"A",21,null,null,"C",36,null,null,"D",50,null,null,"D"]
[null,null,null,null,null,null,null,null,null,null,null,null,null,null,null,null,null,null,null,null,null,null,null,null,null,null,null,null,null,null,null,null,null,null,null,null,null,null,null,null,15,null,null,"B",27,null,null,"C",38,null,null,"C"]
[null,null,null,null,null,null,null,null,null,null,null,null,null,null,null,null,null,null,null,null,null,null,null,null,null,null,null,null,null,null,null,null,null,null,null,null,null,null,null,null,9,null,null,"A",20,null,null,"B",27,null,null,"B"]
[null,null,null,null,null,null,null,null,null,null,null,null,null,null,null,null,null,null,null,null,null,null,null,null,null,null,null,null,null,null,null,null,null,null,null,null,null,null,null,null,null,null,null,null,12,null,null,"A",17,null,null,"A"]

{"sheet":"Tab 2","index":2,"n_rows":36,"n_cols":39,"rows_kept":36,"cut":false,"hidden":true,"merged":[]}
[null,"Z","O","N","M","L","K","J","I","H","G","F","E","D","C","B","A"]
["A",15.5,14.58,14.05,13.13,12.21,11.29,10.36,9.44,8.52,8,7.08,6.15,5.23,4.3099999999999996,3.36,2.2000000000000002]
["B",13.3,12.37,11.45,10.53,10.01,9.09,8.16,7.24,6.32,5.4,4.4800000000000004,3.55,3.03,2.11,1.1599999999999999]
["C",12.13,11.21,10.29,9.3699999999999992,8.44,7.52,7,6.08,5.16,4.2300000000000004,3.31,2.39,1.47,0.55000000000000004]
["D",11.19,10.27,9.34,8.42,7.5,6.58,6.06,5.13,4.21,3.29,2.37,1.44,0.52]
["E",10.27,9.34,8.42,7.5,6.58,6.06,5.13,4.21,3.29,2.37,1.44,0.52]
["F",9.34,8.42,7.5,6.58,6.06,5.13,4.21,3.29,2.37,1.44,0.52]
["G",8.42,7.5,6.58,6.06,5.13,4.21,3.29,2.37,1.44,0.52]
["H",7.5,6.58,6.06,5.13,4.21,3.29,2.37,1.44,0.52]
["I",6.58,6.06,5.13,4.21,3.29,2.37,1.44,0.52]
["J",6.06,5.13,4.21,3.29,2.37,1.44,0.52]
["K",5.13,4.21,3.29,2.37,1.44,0.52]
["L",4.21,3.29,2.37,1.44,0.52]
["M",3.29,2.37,1.44,0.52]
["N",2.37,1.44,0.52]
["O",1.44,0.52]
["Z",0.52]
[]
[]
[]
[null,{"$f":"INT(B2)*60 + ((B2-INT(B2))*100)","v":950},898,845.00000000000011,793.00000000000011,741.00000000000011,688.99999999999989,636,584,532,480,428,375.00000000000006,323.00000000000006,270.99999999999994,216,{"$f":"INT(Q2)*60 + ((Q2-INT(Q2))*100)","v":140.00000000000003},null,null,null,null,null,null,480,340.00000000000006,263.00000000000006,209,157,104,52,0,0,0,0,0,0,0,0,0]
[null,{"$f":"INT(B3)*60 + ((B3-INT(B3))*100)","v":810.00000000000011},756.99999999999989,704.99999999999989,652.99999999999989,601,549,496,444,392,340.00000000000006,288.00000000000006,235,182.99999999999997,131,76,{"$f":"INT(Q3)*60 + ((Q3-INT(Q3))*100)","v":0}]
[null,{"$f":"INT(B4)*60 + ((B4-INT(B4))*100)","v":733.00000000000011},681.00000000000011,628.99999999999989,576.99999999999989,524,471.99999999999994,420,368,316,263.00000000000006,211,159,107,55.000000000000007,0,0]
[null,{"$f":"INT(B5)*60 + ((B5-INT(B5))*100)","v":679},627,574,522,470,418,365.99999999999994,313,261,209,157,104,52,0,0,0]
[null,{"$f":"INT(B6)*60 + ((B6-INT(B6))*100)","v":627},574,522,470,418,365.99999999999994,313,261,209,157,104,52,0,0,0,0]
[null,{"$f":"INT(B7)*60 + ((B7-INT(B7))*100)","v":574},522,470,418,365.99999999999994,313,261,209,157,104,52,0,0,0,0,0]
[null,{"$f":"INT(B8)*60 + ((B8-INT(B8))*100)","v":522},470,418,365.99999999999994,313,261,209,157,104,52,0,0,0,0,0,0]
[null,{"$f":"INT(B9)*60 + ((B9-INT(B9))*100)","v":470},418,365.99999999999994,313,261,209,157,104,52,0,0,0,0,0,0,0]
[null,{"$f":"INT(B10)*60 + ((B10-INT(B10))*100)","v":418},365.99999999999994,313,261,209,157,104,52,0,0,0,0,0,0,0,0]
[null,{"$f":"INT(B11)*60 + ((B11-INT(B11))*100)","v":365.99999999999994},313,261,209,157,104,52,0,0,0,0,0,0,0,0,0]
[null,{"$f":"INT(B12)*60 + ((B12-INT(B12))*100)","v":313},261,209,157,104,52,0,0,0,0,0,0,0,0,0,0]
[null,{"$f":"INT(B13)*60 + ((B13-INT(B13))*100)","v":261},209,157,104,52,0,0,0,0,0,0,0,0,0,0,0]
[null,{"$f":"INT(B14)*60 + ((B14-INT(B14))*100)","v":209},157,104,52,0,0,0,0,0,0,0,0,0,0,0,0]
[null,{"$f":"INT(B15)*60 + ((B15-INT(B15))*100)","v":157},104,52,0,0,0,0,0,0,0,0,0,0,0,0,0]
[null,{"$f":"INT(B16)*60 + ((B16-INT(B16))*100)","v":104},52,0,0,0,0,0,0,0,0,0,0,0,0,0,0]
[null,{"$f":"INT(B17)*60 + ((B17-INT(B17))*100)","v":52},0,0,0,0,0,0,0,0,0,0,0,0,0,0,0]

{"sheet":"Tab 3","index":3,"n_rows":15,"n_cols":17,"rows_kept":15,"cut":false,"hidden":true,"merged":[]}
[null,"A","B","C","D","E","F","G","H","I","J","K","L","M","N","O","Z"]
[45,4,6,8,9,11,13,15,17,19,21,23]
[42,4,6,8,10,12,14,16,19,21,23,25]
[39,4,6,9,11,13,15,18,20,22,25,27]
[36,5,7,9,12,14,17,19,22,24,27,30,32]
[33,5,8,10,13,16,18,21,24,27,30,33,36,39]
[30,5,8,11,14,17,20,23,26,30,33,36,40,43,47]
[27,6,9,12,16,19,22,26,29,33,37,41,44,48,52]
[24,7,10,14,18,22,25,29,33,38,42,46,51,55,60,65]
[21,8,12,16,20,25,29,34,39,44,49,54,59,65,71,77,83]
[18,9,14,19,24,29,35,40,46,52,58,65,72,79,86,93,101]
[15,11,17,23,29,35,42,49,57,65,73,81,90,99,109,120,131]
[12,13,21,29,37,45,55,64,74,85,97,109,122,136,152,169,188]
[9,18,28,39,51,63,77,92,108,126,146,168,194,224,261,308,372]
[6,27,44,62,83,106,134,166,206,257,331,462]